BEGIN:VCALENDAR
VERSION:2.0
PRODID:-//The Ministry of Immanuel - ECPv6.15.20//NONSGML v1.0//EN
CALSCALE:GREGORIAN
METHOD:PUBLISH
X-ORIGINAL-URL:https://immanuel-godwithus.com
X-WR-CALDESC:Events for The Ministry of Immanuel
REFRESH-INTERVAL;VALUE=DURATION:PT1H
X-Robots-Tag:noindex
X-PUBLISHED-TTL:PT1H
BEGIN:VTIMEZONE
TZID:America/New_York
BEGIN:DAYLIGHT
TZOFFSETFROM:-0500
TZOFFSETTO:-0400
TZNAME:EDT
DTSTART:20140309T070000
END:DAYLIGHT
BEGIN:STANDARD
TZOFFSETFROM:-0400
TZOFFSETTO:-0500
TZNAME:EST
DTSTART:20141102T060000
END:STANDARD
BEGIN:DAYLIGHT
TZOFFSETFROM:-0500
TZOFFSETTO:-0400
TZNAME:EDT
DTSTART:20150308T070000
END:DAYLIGHT
BEGIN:STANDARD
TZOFFSETFROM:-0400
TZOFFSETTO:-0500
TZNAME:EST
DTSTART:20151101T060000
END:STANDARD
BEGIN:DAYLIGHT
TZOFFSETFROM:-0500
TZOFFSETTO:-0400
TZNAME:EDT
DTSTART:20160313T070000
END:DAYLIGHT
BEGIN:STANDARD
TZOFFSETFROM:-0400
TZOFFSETTO:-0500
TZNAME:EST
DTSTART:20161106T060000
END:STANDARD
END:VTIMEZONE
BEGIN:VEVENT
DTSTART;TZID=America/New_York:20151214T100000
DTEND;TZID=America/New_York:20151214T120000
DTSTAMP:20260425T113929
CREATED:20151201T012857Z
LAST-MODIFIED:20151201T012857Z
UID:493-1450087200-1450094400@immanuel-godwithus.com
SUMMARY:Interview @ W.R.F.G.
DESCRIPTION:
URL:https://immanuel-godwithus.com/event/interview-w-r-f-g/
LOCATION:WRFG\, GA\, United States
END:VEVENT
BEGIN:VEVENT
DTSTART;TZID=America/New_York:20151024T180000
DTEND;TZID=America/New_York:20151024T200000
DTSTAMP:20260425T113929
CREATED:20151022T204703Z
LAST-MODIFIED:20151022T204703Z
UID:465-1445709600-1445716800@immanuel-godwithus.com
SUMMARY:Pastors Appreciation Celebration
DESCRIPTION:
URL:https://immanuel-godwithus.com/event/pastors-appreciation-celebration/
LOCATION:West End SDA Church\, 845 Lawton Street\, Atlanta\, 30310\, United States
END:VEVENT
BEGIN:VEVENT
DTSTART;TZID=America/New_York:20151021T080000
DTEND;TZID=America/New_York:20151021T210000
DTSTAMP:20260425T113929
CREATED:20151018T150940Z
LAST-MODIFIED:20151018T150940Z
UID:418-1445414400-1445461200@immanuel-godwithus.com
SUMMARY:The Wake Up Mission
DESCRIPTION:
URL:https://immanuel-godwithus.com/event/the-wake-up-mission/
LOCATION:Internet Radio\, United States
END:VEVENT
BEGIN:VEVENT
DTSTART;TZID=America/New_York:20151014T190000
DTEND;TZID=America/New_York:20151014T200000
DTSTAMP:20260425T113929
CREATED:20151012T184745Z
LAST-MODIFIED:20151012T184745Z
UID:340-1444849200-1444852800@immanuel-godwithus.com
SUMMARY:Immanuel @ West End S.D.A. Church
DESCRIPTION:
URL:https://immanuel-godwithus.com/event/immanuel-west-end-s-d-a-church/
LOCATION:West End S.D.S. Church\, 845 Lawton Street\, Atlanta\, GA.\, 30310\, United States
ATTACH;FMTTYPE=image/jpeg:https://immanuel-godwithus.com/wp-content/uploads/2015/09/Immanuel-Still-e1553390915796.jpg
END:VEVENT
END:VCALENDAR