BEGIN:VCALENDAR
VERSION:2.0
PRODID:-//The Ministry of Immanuel - ECPv6.15.20//NONSGML v1.0//EN
CALSCALE:GREGORIAN
METHOD:PUBLISH
X-WR-CALNAME:The Ministry of Immanuel
X-ORIGINAL-URL:https://immanuel-godwithus.com
X-WR-CALDESC:Events for The Ministry of Immanuel
REFRESH-INTERVAL;VALUE=DURATION:PT1H
X-Robots-Tag:noindex
X-PUBLISHED-TTL:PT1H
BEGIN:VTIMEZONE
TZID:America/New_York
BEGIN:DAYLIGHT
TZOFFSETFROM:-0500
TZOFFSETTO:-0400
TZNAME:EDT
DTSTART:20140309T070000
END:DAYLIGHT
BEGIN:STANDARD
TZOFFSETFROM:-0400
TZOFFSETTO:-0500
TZNAME:EST
DTSTART:20141102T060000
END:STANDARD
BEGIN:DAYLIGHT
TZOFFSETFROM:-0500
TZOFFSETTO:-0400
TZNAME:EDT
DTSTART:20150308T070000
END:DAYLIGHT
BEGIN:STANDARD
TZOFFSETFROM:-0400
TZOFFSETTO:-0500
TZNAME:EST
DTSTART:20151101T060000
END:STANDARD
BEGIN:DAYLIGHT
TZOFFSETFROM:-0500
TZOFFSETTO:-0400
TZNAME:EDT
DTSTART:20160313T070000
END:DAYLIGHT
BEGIN:STANDARD
TZOFFSETFROM:-0400
TZOFFSETTO:-0500
TZNAME:EST
DTSTART:20161106T060000
END:STANDARD
BEGIN:DAYLIGHT
TZOFFSETFROM:-0500
TZOFFSETTO:-0400
TZNAME:EDT
DTSTART:20170312T070000
END:DAYLIGHT
BEGIN:STANDARD
TZOFFSETFROM:-0400
TZOFFSETTO:-0500
TZNAME:EST
DTSTART:20171105T060000
END:STANDARD
BEGIN:DAYLIGHT
TZOFFSETFROM:-0500
TZOFFSETTO:-0400
TZNAME:EDT
DTSTART:20180311T070000
END:DAYLIGHT
BEGIN:STANDARD
TZOFFSETFROM:-0400
TZOFFSETTO:-0500
TZNAME:EST
DTSTART:20181104T060000
END:STANDARD
BEGIN:DAYLIGHT
TZOFFSETFROM:-0500
TZOFFSETTO:-0400
TZNAME:EDT
DTSTART:20190310T070000
END:DAYLIGHT
BEGIN:STANDARD
TZOFFSETFROM:-0400
TZOFFSETTO:-0500
TZNAME:EST
DTSTART:20191103T060000
END:STANDARD
BEGIN:DAYLIGHT
TZOFFSETFROM:-0500
TZOFFSETTO:-0400
TZNAME:EDT
DTSTART:20200308T070000
END:DAYLIGHT
BEGIN:STANDARD
TZOFFSETFROM:-0400
TZOFFSETTO:-0500
TZNAME:EST
DTSTART:20201101T060000
END:STANDARD
END:VTIMEZONE
BEGIN:VEVENT
DTSTART;TZID=America/New_York:20190330T110000
DTEND;TZID=America/New_York:20190330T133000
DTSTAMP:20260425T102501
CREATED:20190331T235945Z
LAST-MODIFIED:20190331T235945Z
UID:1476-1553943600-1553952600@immanuel-godwithus.com
SUMMARY:West End SDA Worship Service
DESCRIPTION:
URL:https://immanuel-godwithus.com/event/west-end-sda-worship-service/
LOCATION:West End SDA Church\, 845 Lawton Street\, Atlanta\, 30310\, United States
END:VEVENT
BEGIN:VEVENT
DTSTART;TZID=America/New_York:20190322T080000
DTEND;TZID=America/New_York:20190322T170000
DTSTAMP:20260425T102501
CREATED:20190322T160541Z
LAST-MODIFIED:20190322T160722Z
UID:1279-1553241600-1553274000@immanuel-godwithus.com
SUMMARY:Live On Air Interview
DESCRIPTION:
URL:https://immanuel-godwithus.com/event/live-on-air-interview/
END:VEVENT
BEGIN:VEVENT
DTSTART;TZID=America/New_York:20190317T190000
DTEND;TZID=America/New_York:20190317T210000
DTSTAMP:20260425T102501
CREATED:20190322T154511Z
LAST-MODIFIED:20190322T155651Z
UID:1274-1552849200-1552856400@immanuel-godwithus.com
SUMMARY:I Am Enough Talk Show
DESCRIPTION:
URL:https://immanuel-godwithus.com/event/i-am-enough-talk-show/
LOCATION:Status Network\, 777 Clevleand Ave\, Atlanta\, GA\, 30315\, United States
END:VEVENT
BEGIN:VEVENT
DTSTART;TZID=America/New_York:20190316T090000
DTEND;TZID=America/New_York:20190316T203000
DTSTAMP:20260425T102501
CREATED:20190327T005240Z
LAST-MODIFIED:20190327T005240Z
UID:1461-1552726800-1552768200@immanuel-godwithus.com
SUMMARY:Sabbath School Training and Children's Ministry Certification
DESCRIPTION:
URL:https://immanuel-godwithus.com/event/sabbath-school-training-and-childrens-ministry-certification/
LOCATION:South Atlantic Conference of Seventh Day Adventist\, 294 Hamilton E Holmes Dr NW\, Atlanta\, GA\, 30318\, United States
END:VEVENT
BEGIN:VEVENT
DTSTART;TZID=America/New_York:20190315T190000
DTEND;TZID=America/New_York:20190315T210000
DTSTAMP:20260425T102501
CREATED:20190322T171934Z
LAST-MODIFIED:20190322T172156Z
UID:1282-1552676400-1552683600@immanuel-godwithus.com
SUMMARY:Prison Ministries Convention
DESCRIPTION:
URL:https://immanuel-godwithus.com/event/1282/
LOCATION:Southern Union\, 302 Research Dr.\, Peachtree Corners\, GA\, United States
END:VEVENT
BEGIN:VEVENT
DTSTART;TZID=America/New_York:20190306T190000
DTEND;TZID=America/New_York:20190306T210000
DTSTAMP:20260425T102501
CREATED:20190329T012243Z
LAST-MODIFIED:20190329T012243Z
UID:1472-1551898800-1551906000@immanuel-godwithus.com
SUMMARY:P-Factor
DESCRIPTION:
URL:https://immanuel-godwithus.com/event/p-factor/
LOCATION:West End SDA Church\, 845 Lawton Street\, Atlanta\, 30310\, United States
END:VEVENT
BEGIN:VEVENT
DTSTART;TZID=America/New_York:20190223T170000
DTEND;TZID=America/New_York:20190223T190000
DTSTAMP:20260425T102501
CREATED:20190329T011930Z
LAST-MODIFIED:20190329T011930Z
UID:1469-1550941200-1550948400@immanuel-godwithus.com
SUMMARY:National Women's Prayer Banquet
DESCRIPTION:
URL:https://immanuel-godwithus.com/event/national-womens-prayer-banquet/
LOCATION:Atlanta Boulevard SDA Church\, 240 Maynard Terrace SE\, Atlanta\, 30316\, United States
END:VEVENT
BEGIN:VEVENT
DTSTART;TZID=America/New_York:20190216T103000
DTEND;TZID=America/New_York:20190216T130000
DTSTAMP:20260425T102501
CREATED:20190329T011039Z
LAST-MODIFIED:20190329T011039Z
UID:1466-1550313000-1550322000@immanuel-godwithus.com
SUMMARY:Pastors Wives and Widows Breakfeast
DESCRIPTION:
URL:https://immanuel-godwithus.com/event/pastors-wives-and-widows-breakfeast/
LOCATION:Podwer Springs Center\, United States
END:VEVENT
BEGIN:VEVENT
DTSTART;TZID=America/New_York:20190109T080000
DTEND;TZID=America/New_York:20190112T170000
DTSTAMP:20260425T102501
CREATED:20190327T001320Z
LAST-MODIFIED:20190327T003345Z
UID:1453-1547020800-1547312400@immanuel-godwithus.com
SUMMARY:Adult Ministries Leadership  and Children's Ministry Conference
DESCRIPTION:
URL:https://immanuel-godwithus.com/event/adult-ministries-leadership-conference/
LOCATION:Hyatt Regency\, Albuquerque\, NM\, United States
END:VEVENT
BEGIN:VEVENT
DTSTART;TZID=America/New_York:20180922T100000
DTEND;TZID=America/New_York:20180922T140000
DTSTAMP:20260425T102501
CREATED:20180830T203437Z
LAST-MODIFIED:20180830T203437Z
UID:925-1537610400-1537624800@immanuel-godwithus.com
SUMMARY:West End Mall
DESCRIPTION:
URL:https://immanuel-godwithus.com/event/west-end-mall/
LOCATION:West End Mall\, GA\, United States
END:VEVENT
BEGIN:VEVENT
DTSTART;TZID=America/New_York:20180817T070000
DTEND;TZID=America/New_York:20180817T220000
DTSTAMP:20260425T102501
CREATED:20180830T204302Z
LAST-MODIFIED:20180830T204302Z
UID:928-1534489200-1534543200@immanuel-godwithus.com
SUMMARY:The Branch Inspirational Cafe
DESCRIPTION:
URL:https://immanuel-godwithus.com/event/the-branch-inspirational-cafe/
LOCATION:The Branch Worship Center\, 2285 Iris Dr. SE\, Conyers\, GA\, United States
END:VEVENT
BEGIN:VEVENT
DTSTART;TZID=America/New_York:20160820T190000
DTEND;TZID=America/New_York:20160820T210000
DTSTAMP:20260425T102501
CREATED:20160731T021301Z
LAST-MODIFIED:20160731T021301Z
UID:632-1471719600-1471726800@immanuel-godwithus.com
SUMMARY:Praise in the Park
DESCRIPTION:
URL:https://immanuel-godwithus.com/event/praise-in-the-park/
LOCATION:Howell Park\, 938 Ralph David Abernathy\, Atlanta\, GA\, United States
END:VEVENT
BEGIN:VEVENT
DTSTART;TZID=America/New_York:20160806T060000
DTEND;TZID=America/New_York:20160806T210000
DTSTAMP:20260425T102501
CREATED:20160731T020302Z
LAST-MODIFIED:20160731T020302Z
UID:629-1470463200-1470517200@immanuel-godwithus.com
SUMMARY:Burdon Family Banquet
DESCRIPTION:
URL:https://immanuel-godwithus.com/event/burdon-family-banquet/
LOCATION:Courtyard Marriott Atlanta Airport\, 3400 Creek Point Ave\, East Point\, GA\, 30344\, United States
END:VEVENT
BEGIN:VEVENT
DTSTART;TZID=America/New_York:20160724T130000
DTEND;TZID=America/New_York:20160724T170000
DTSTAMP:20260425T102501
CREATED:20160731T015337Z
LAST-MODIFIED:20160731T015513Z
UID:624-1469365200-1469379600@immanuel-godwithus.com
SUMMARY:Heavenly Dream Bridal Showcase
DESCRIPTION:
URL:https://immanuel-godwithus.com/event/heavenly-dream-bridal-showcase/
LOCATION:Town Center Plaza\, 800 Block Main Street\, Forest Park\, GA\, United States
ATTACH;FMTTYPE=image/jpeg:https://immanuel-godwithus.com/wp-content/uploads/2016/07/HDBS-Flyer.jpg
END:VEVENT
BEGIN:VEVENT
DTSTART;TZID=America/New_York:20160723T110000
DTEND;TZID=America/New_York:20160723T140000
DTSTAMP:20260425T102501
CREATED:20160731T024650Z
LAST-MODIFIED:20160731T024650Z
UID:638-1469271600-1469282400@immanuel-godwithus.com
SUMMARY:West End SDA Church Service
DESCRIPTION:
URL:https://immanuel-godwithus.com/event/west-end-sda-church-service/
LOCATION:West End S.D.S. Church\, 845 Lawton Street\, Atlanta\, GA.\, 30310\, United States
END:VEVENT
BEGIN:VEVENT
DTSTART;TZID=America/New_York:20160706T190000
DTEND;TZID=America/New_York:20160706T210000
DTSTAMP:20260425T102501
CREATED:20160731T025041Z
LAST-MODIFIED:20160731T025041Z
UID:639-1467831600-1467838800@immanuel-godwithus.com
SUMMARY:Get in Formation Evangelistic Crusade
DESCRIPTION:
URL:https://immanuel-godwithus.com/event/get-in-formation-evangelistic-crusade-2/
LOCATION:West End S.D.S. Church\, 845 Lawton Street\, Atlanta\, GA.\, 30310\, United States
ATTACH;FMTTYPE=image/jpeg:https://immanuel-godwithus.com/wp-content/uploads/2016/07/Get-in-Formation.jpg
END:VEVENT
BEGIN:VEVENT
DTSTART;TZID=America/New_York:20160702T110000
DTEND;TZID=America/New_York:20160702T140000
DTSTAMP:20260425T102501
CREATED:20160731T024315Z
LAST-MODIFIED:20160731T024315Z
UID:635-1467457200-1467468000@immanuel-godwithus.com
SUMMARY:Get In Formation Evangelistic Crusade
DESCRIPTION:
URL:https://immanuel-godwithus.com/event/get-in-formation-evangelistic-crusade/
LOCATION:West End S.D.S. Church\, 845 Lawton Street\, Atlanta\, GA.\, 30310\, United States
ATTACH;FMTTYPE=image/jpeg:https://immanuel-godwithus.com/wp-content/uploads/2016/07/Get-in-Formation.jpg
END:VEVENT
BEGIN:VEVENT
DTSTART;TZID=America/New_York:20160430T173000
DTEND;TZID=America/New_York:20160430T193000
DTSTAMP:20260425T102501
CREATED:20160329T164848Z
LAST-MODIFIED:20160329T164848Z
UID:516-1462037400-1462044600@immanuel-godwithus.com
SUMMARY:Immanuel at the Lighthouse Mission Church
DESCRIPTION:
URL:https://immanuel-godwithus.com/event/immanuel-at-the-lighthouse-mission-church/
LOCATION:Lighthouse Mission Church
END:VEVENT
BEGIN:VEVENT
DTSTART;TZID=America/New_York:20160423T000000
DTEND;TZID=America/New_York:20160423T140000
DTSTAMP:20260425T102501
CREATED:20160329T164216Z
LAST-MODIFIED:20160329T164216Z
UID:512-1461369600-1461420000@immanuel-godwithus.com
SUMMARY:"Celebrating A Legacy"
DESCRIPTION:
URL:https://immanuel-godwithus.com/event/celebrating-a-legacy/
LOCATION:Hilton Garden Inn Atl Airport North\, 3437 Bobby Brown Pkw.\, East Point\, GA\, 30344\, United States
END:VEVENT
BEGIN:VEVENT
DTSTART;TZID=America/New_York:20151219T103000
DTEND;TZID=America/New_York:20151219T110000
DTSTAMP:20260425T102501
CREATED:20151201T012515Z
LAST-MODIFIED:20151201T012515Z
UID:491-1450521000-1450522800@immanuel-godwithus.com
SUMMARY:Ministry @ Sabbath School
DESCRIPTION:
URL:https://immanuel-godwithus.com/event/ministry-sabbath-school/
LOCATION:West End S.D.S. Church\, 845 Lawton Street\, Atlanta\, GA.\, 30310\, United States
END:VEVENT
BEGIN:VEVENT
DTSTART;TZID=America/New_York:20151214T100000
DTEND;TZID=America/New_York:20151214T120000
DTSTAMP:20260425T102501
CREATED:20151201T012857Z
LAST-MODIFIED:20151201T012857Z
UID:493-1450087200-1450094400@immanuel-godwithus.com
SUMMARY:Interview @ W.R.F.G.
DESCRIPTION:
URL:https://immanuel-godwithus.com/event/interview-w-r-f-g/
LOCATION:WRFG\, GA\, United States
END:VEVENT
BEGIN:VEVENT
DTSTART;TZID=America/New_York:20151024T180000
DTEND;TZID=America/New_York:20151024T200000
DTSTAMP:20260425T102501
CREATED:20151022T204703Z
LAST-MODIFIED:20151022T204703Z
UID:465-1445709600-1445716800@immanuel-godwithus.com
SUMMARY:Pastors Appreciation Celebration
DESCRIPTION:
URL:https://immanuel-godwithus.com/event/pastors-appreciation-celebration/
LOCATION:West End SDA Church\, 845 Lawton Street\, Atlanta\, 30310\, United States
END:VEVENT
BEGIN:VEVENT
DTSTART;TZID=America/New_York:20151021T080000
DTEND;TZID=America/New_York:20151021T210000
DTSTAMP:20260425T102501
CREATED:20151018T150940Z
LAST-MODIFIED:20151018T150940Z
UID:418-1445414400-1445461200@immanuel-godwithus.com
SUMMARY:The Wake Up Mission
DESCRIPTION:
URL:https://immanuel-godwithus.com/event/the-wake-up-mission/
LOCATION:Internet Radio\, United States
END:VEVENT
BEGIN:VEVENT
DTSTART;TZID=America/New_York:20151014T190000
DTEND;TZID=America/New_York:20151014T200000
DTSTAMP:20260425T102501
CREATED:20151012T184745Z
LAST-MODIFIED:20151012T184745Z
UID:340-1444849200-1444852800@immanuel-godwithus.com
SUMMARY:Immanuel @ West End S.D.A. Church
DESCRIPTION:
URL:https://immanuel-godwithus.com/event/immanuel-west-end-s-d-a-church/
LOCATION:West End S.D.S. Church\, 845 Lawton Street\, Atlanta\, GA.\, 30310\, United States
ATTACH;FMTTYPE=image/jpeg:https://immanuel-godwithus.com/wp-content/uploads/2015/09/Immanuel-Still-e1553390915796.jpg
END:VEVENT
END:VCALENDAR